BEGIN:VCALENDAR
VERSION:2.0
PRODID:-//sweda - temp - ECPv6.15.20//NONSGML v1.0//EN
CALSCALE:GREGORIAN
METHOD:PUBLISH
X-WR-CALNAME:sweda - temp
X-ORIGINAL-URL:https://sweda.org.uk
X-WR-CALDESC:Events for sweda - temp
REFRESH-INTERVAL;VALUE=DURATION:PT1H
X-Robots-Tag:noindex
X-PUBLISHED-TTL:PT1H
BEGIN:VTIMEZONE
TZID:Europe/London
BEGIN:DAYLIGHT
TZOFFSETFROM:+0000
TZOFFSETTO:+0100
TZNAME:BST
DTSTART:20220327T010000
END:DAYLIGHT
BEGIN:STANDARD
TZOFFSETFROM:+0100
TZOFFSETTO:+0000
TZNAME:GMT
DTSTART:20221030T010000
END:STANDARD
BEGIN:DAYLIGHT
TZOFFSETFROM:+0000
TZOFFSETTO:+0100
TZNAME:BST
DTSTART:20230326T010000
END:DAYLIGHT
BEGIN:STANDARD
TZOFFSETFROM:+0100
TZOFFSETTO:+0000
TZNAME:GMT
DTSTART:20231029T010000
END:STANDARD
BEGIN:DAYLIGHT
TZOFFSETFROM:+0000
TZOFFSETTO:+0100
TZNAME:BST
DTSTART:20240331T010000
END:DAYLIGHT
BEGIN:STANDARD
TZOFFSETFROM:+0100
TZOFFSETTO:+0000
TZNAME:GMT
DTSTART:20241027T010000
END:STANDARD
BEGIN:DAYLIGHT
TZOFFSETFROM:+0000
TZOFFSETTO:+0100
TZNAME:BST
DTSTART:20250330T010000
END:DAYLIGHT
BEGIN:STANDARD
TZOFFSETFROM:+0100
TZOFFSETTO:+0000
TZNAME:GMT
DTSTART:20251026T010000
END:STANDARD
END:VTIMEZONE
BEGIN:VEVENT
DTSTART;VALUE=DATE:20240724
DTEND;VALUE=DATE:20240903
DTSTAMP:20260422T112044
CREATED:20240711T100507Z
LAST-MODIFIED:20240715T132117Z
UID:10000017-1721779200-1725321599@sweda.org.uk
SUMMARY:Holiday activities in Sandwell
DESCRIPTION:
URL:https://sweda.org.uk/event/holiday-activities-in-sandwell/
CATEGORIES:Holiday Activities
END:VEVENT
BEGIN:VEVENT
DTSTART;TZID=Europe/London:20240722T093000
DTEND;TZID=Europe/London:20240722T110000
DTSTAMP:20260422T112044
CREATED:20240117T120000Z
LAST-MODIFIED:20240716T113201Z
UID:10000010-1721640600-1721646000@sweda.org.uk
SUMMARY:Coffee Morning & Digital Cafe
DESCRIPTION:
URL:https://sweda.org.uk/event/coffee-morning-digital-cafe-4/
LOCATION:SWEDA\, West Bromwich\, B70 8RP
END:VEVENT
BEGIN:VEVENT
DTSTART;VALUE=DATE:20240720
DTEND;VALUE=DATE:20240902
DTSTAMP:20260422T112044
CREATED:20240711T102814Z
LAST-MODIFIED:20240715T132137Z
UID:10000022-1721433600-1725235199@sweda.org.uk
SUMMARY:Holiday Activities in Rowley
DESCRIPTION:
URL:https://sweda.org.uk/event/holiday-activities-in-rowley/
CATEGORIES:Holiday Activities
END:VEVENT
BEGIN:VEVENT
DTSTART;VALUE=DATE:20240720
DTEND;VALUE=DATE:20240902
DTSTAMP:20260422T112044
CREATED:20240711T102502Z
LAST-MODIFIED:20240715T133908Z
UID:10000021-1721433600-1725235199@sweda.org.uk
SUMMARY:Holiday Activities in Oldbury
DESCRIPTION:
URL:https://sweda.org.uk/event/holiday-activities-in-oldbury/
CATEGORIES:Holiday Activities
END:VEVENT
BEGIN:VEVENT
DTSTART;VALUE=DATE:20240720
DTEND;VALUE=DATE:20240902
DTSTAMP:20260422T112044
CREATED:20240711T101454Z
LAST-MODIFIED:20240715T133924Z
UID:10000019-1721433600-1725235199@sweda.org.uk
SUMMARY:Holiday Activities for Wednesbury
DESCRIPTION:
URL:https://sweda.org.uk/event/holiday-activities-wednesbury/
CATEGORIES:Holiday Activities
END:VEVENT
BEGIN:VEVENT
DTSTART;VALUE=DATE:20240720
DTEND;VALUE=DATE:20240902
DTSTAMP:20260422T112044
CREATED:20240711T100912Z
LAST-MODIFIED:20240715T133939Z
UID:10000018-1721433600-1725235199@sweda.org.uk
SUMMARY:Holiday Activities for Sandwell
DESCRIPTION:
URL:https://sweda.org.uk/event/holiday-activities-for-sandwell/
CATEGORIES:Holiday Activities
END:VEVENT
BEGIN:VEVENT
DTSTART;TZID=Europe/London:20240717T100000
DTEND;TZID=Europe/London:20240717T120000
DTSTAMP:20260422T112044
CREATED:20240621T152006Z
LAST-MODIFIED:20240715T134006Z
UID:10000014-1721210400-1721217600@sweda.org.uk
SUMMARY:Marketing Workshop
DESCRIPTION:Defining your customer\n\n\nEnsuring your brand represents your values\n\n\nExploring low-cost ways to raise awareness\n\n\nIf you wish to attend please contact SWEDA\, see details below
URL:https://sweda.org.uk/event/marketing-workshop/
LOCATION:SWEDA\, West Bromwich\, B70 8RP
CATEGORIES:Business
ORGANIZER;CN="SWEDA":MAILTO:sweda@sweda.org.uk
END:VEVENT
BEGIN:VEVENT
DTSTART;TZID=Europe/London:20240716T150000
DTEND;TZID=Europe/London:20240816T173000
DTSTAMP:20260422T112044
CREATED:20240711T094447Z
LAST-MODIFIED:20240715T134035Z
UID:10000016-1721142000-1723829400@sweda.org.uk
SUMMARY:Go Play Sandwell
DESCRIPTION:
URL:https://sweda.org.uk/event/holiday-activities/
CATEGORIES:Holiday Activities
END:VEVENT
BEGIN:VEVENT
DTSTART;TZID=Europe/London:20240711T100000
DTEND;TZID=Europe/London:20240711T120000
DTSTAMP:20260422T112044
CREATED:20240628T121920Z
LAST-MODIFIED:20240715T134058Z
UID:10000015-1720692000-1720699200@sweda.org.uk
SUMMARY:Summer Networking Event
DESCRIPTION:Please join us for a great summer networking morning. \nWe will be in the Sandwell Start Up Hub\, Jack Judge House\, Oldbury\, B69 2AJ on July 11th from 10am – 12pm \nhttps://sandwellbusinessgrowth.com/start-up/sandwell-start-up-hub/\, a fantastic location for new businesses to work from. We are joined by Tom Bostock from The Key Fund https://thekeyfund.co.uk/ and Adam Wilkins from Cranfield Trust https://www.cranfieldtrust.org/ offering advice and guidance from social investment to pro bono management support for your CIC or Charity\, excellent organisations. \nContact jane@sweda.org.uk for more info. \nhttps://www.eventbrite.co.uk/e/networking-with-key-presentations-from-the-key-fund-and-cranfield-trust-tickets-923156324417
URL:https://sweda.org.uk/event/summer-networking-event/
CATEGORIES:Business
END:VEVENT
BEGIN:VEVENT
DTSTART;TZID=Europe/London:20240710T100000
DTEND;TZID=Europe/London:20240710T120000
DTSTAMP:20260422T112044
CREATED:20240621T151128Z
LAST-MODIFIED:20240715T134143Z
UID:10000012-1720605600-1720612800@sweda.org.uk
SUMMARY:Business Planning Workshop
DESCRIPTION:Topics to be covered:\n\nDo you have what it takes?\nPersonal SWOT Analysis\nThe Business Plan\nLegal Structures & Considerations\n\nIf you wish to attend please contact SWEDA\, see details below
URL:https://sweda.org.uk/event/business-planning-workshop/
LOCATION:SWEDA\, West Bromwich\, B70 8RP
CATEGORIES:Business
ORGANIZER;CN="SWEDA":MAILTO:sweda@sweda.org.uk
END:VEVENT
BEGIN:VEVENT
DTSTART;TZID=Europe/London:20240628T100000
DTEND;TZID=Europe/London:20240628T120000
DTSTAMP:20260422T112044
CREATED:20240607T152053Z
LAST-MODIFIED:20240607T152053Z
UID:10000011-1719568800-1719576000@sweda.org.uk
SUMMARY:Got an idea for a business?
DESCRIPTION:Do you know anyone looking to start a business in the Black Country?\nWe have a taster session to learn about the fully funded support available for Sandwell residents.\nFriday 28 June | West Bromwich
URL:https://sweda.org.uk/event/got-an-idea-for-a-business/
LOCATION:SWEDA\, West Bromwich\, B70 8RP
END:VEVENT
BEGIN:VEVENT
DTSTART;TZID=Europe/London:20240205T093000
DTEND;TZID=Europe/London:20240205T110000
DTSTAMP:20260422T112044
CREATED:20231019T111638Z
LAST-MODIFIED:20240117T115113Z
UID:10000003-1707125400-1707130800@sweda.org.uk
SUMMARY:Coffee Morning & Digital Cafe
DESCRIPTION:
URL:https://sweda.org.uk/event/coffee-morning-digital-cafe/
LOCATION:SWEDA\, West Bromwich\, B70 8RP
END:VEVENT
BEGIN:VEVENT
DTSTART;TZID=Europe/London:20240129T093000
DTEND;TZID=Europe/London:20240129T110000
DTSTAMP:20260422T112044
CREATED:20231019T112055Z
LAST-MODIFIED:20240117T114937Z
UID:10000001-1706520600-1706526000@sweda.org.uk
SUMMARY:Coffee Morning & Digital Cafe
DESCRIPTION:
URL:https://sweda.org.uk/event/coffee-morning-digital-cafe-2/
LOCATION:SWEDA\, West Bromwich\, B70 8RP
END:VEVENT
BEGIN:VEVENT
DTSTART;TZID=Europe/London:20240125T100000
DTEND;TZID=Europe/London:20240125T130000
DTSTAMP:20260422T112044
CREATED:20231019T101549Z
LAST-MODIFIED:20240117T155844Z
UID:10000002-1706176800-1706187600@sweda.org.uk
SUMMARY:Social Enterprise Fuse Programme 25th January
DESCRIPTION:
URL:https://sweda.org.uk/event/social-enterprise-fuse-programme-introduction-to-social-enterprise/
LOCATION:SWEDA\, West Bromwich\, B70 8RP
CATEGORIES:Business
END:VEVENT
BEGIN:VEVENT
DTSTART;TZID=Europe/London:20240123T100000
DTEND;TZID=Europe/London:20240123T113000
DTSTAMP:20260422T112044
CREATED:20231019T095730Z
LAST-MODIFIED:20240117T160234Z
UID:10000007-1706004000-1706009400@sweda.org.uk
SUMMARY:Social Enterprise MOT Programme 23rd Jan
DESCRIPTION:
URL:https://sweda.org.uk/event/mot-programme-business-development/
CATEGORIES:Business
END:VEVENT
BEGIN:VEVENT
DTSTART;TZID=Europe/London:20240122T093000
DTEND;TZID=Europe/London:20240122T110000
DTSTAMP:20260422T112044
CREATED:20231019T112408Z
LAST-MODIFIED:20240117T115820Z
UID:10000008-1705915800-1705921200@sweda.org.uk
SUMMARY:Coffee Morning & Digital Cafe
DESCRIPTION:
URL:https://sweda.org.uk/event/coffee-morning-digital-cafe-3-2/
LOCATION:SWEDA\, West Bromwich\, B70 8RP
END:VEVENT
BEGIN:VEVENT
DTSTART;TZID=Europe/London:20230912T100000
DTEND;TZID=Europe/London:20230912T130000
DTSTAMP:20260422T112044
CREATED:20230829T112933Z
LAST-MODIFIED:20231025T092008Z
UID:10000006-1694512800-1694523600@sweda.org.uk
SUMMARY:Social Enterprise Fuse Programme 12th September - 21st November
DESCRIPTION:
URL:https://sweda.org.uk/event/social-enterprise-fuse-programme-12th-september-21st-november/
LOCATION:SWEDA\, West Bromwich\, B70 8RP
CATEGORIES:Business
END:VEVENT
BEGIN:VEVENT
DTSTART;TZID=Europe/London:20230810T103000
DTEND;TZID=Europe/London:20230810T120000
DTSTAMP:20260422T112044
CREATED:20230801T144646Z
LAST-MODIFIED:20231025T092033Z
UID:10000005-1691663400-1691668800@sweda.org.uk
SUMMARY:Social Enterprise MOT Programme - 10th Aug - 30th Aug 2023
DESCRIPTION:
URL:https://sweda.org.uk/event/social-enterprise-mot-programme-10th-aug-30th-aug-2023/
CATEGORIES:Business
END:VEVENT
BEGIN:VEVENT
DTSTART;TZID=Europe/London:20230523T103000
DTEND;TZID=Europe/London:20230523T120000
DTSTAMP:20260422T112044
CREATED:20230510T150402Z
LAST-MODIFIED:20231025T092056Z
UID:10000004-1684837800-1684843200@sweda.org.uk
SUMMARY:Social Enterprise MOT Programme 23rd May - 20th June 2023
DESCRIPTION:
URL:https://sweda.org.uk/event/social-enterprise-mot-programme-23rd-may-20th-june-2023/
CATEGORIES:Business
END:VEVENT
END:VCALENDAR