BEGIN:VCALENDAR
VERSION:2.0
PRODID:-//sweda - temp - ECPv6.15.20//NONSGML v1.0//EN
CALSCALE:GREGORIAN
METHOD:PUBLISH
X-ORIGINAL-URL:https://sweda.org.uk
X-WR-CALDESC:Events for sweda - temp
REFRESH-INTERVAL;VALUE=DURATION:PT1H
X-Robots-Tag:noindex
X-PUBLISHED-TTL:PT1H
BEGIN:VTIMEZONE
TZID:Europe/London
BEGIN:DAYLIGHT
TZOFFSETFROM:+0000
TZOFFSETTO:+0100
TZNAME:BST
DTSTART:20220327T010000
END:DAYLIGHT
BEGIN:STANDARD
TZOFFSETFROM:+0100
TZOFFSETTO:+0000
TZNAME:GMT
DTSTART:20221030T010000
END:STANDARD
BEGIN:DAYLIGHT
TZOFFSETFROM:+0000
TZOFFSETTO:+0100
TZNAME:BST
DTSTART:20230326T010000
END:DAYLIGHT
BEGIN:STANDARD
TZOFFSETFROM:+0100
TZOFFSETTO:+0000
TZNAME:GMT
DTSTART:20231029T010000
END:STANDARD
BEGIN:DAYLIGHT
TZOFFSETFROM:+0000
TZOFFSETTO:+0100
TZNAME:BST
DTSTART:20240331T010000
END:DAYLIGHT
BEGIN:STANDARD
TZOFFSETFROM:+0100
TZOFFSETTO:+0000
TZNAME:GMT
DTSTART:20241027T010000
END:STANDARD
BEGIN:DAYLIGHT
TZOFFSETFROM:+0000
TZOFFSETTO:+0100
TZNAME:BST
DTSTART:20250330T010000
END:DAYLIGHT
BEGIN:STANDARD
TZOFFSETFROM:+0100
TZOFFSETTO:+0000
TZNAME:GMT
DTSTART:20251026T010000
END:STANDARD
END:VTIMEZONE
BEGIN:VEVENT
DTSTART;TZID=Europe/London:20240129T093000
DTEND;TZID=Europe/London:20240129T110000
DTSTAMP:20260422T130255
CREATED:20231019T112055Z
LAST-MODIFIED:20240117T114937Z
UID:10000001-1706520600-1706526000@sweda.org.uk
SUMMARY:Coffee Morning & Digital Cafe
DESCRIPTION:
URL:https://sweda.org.uk/event/coffee-morning-digital-cafe-2/
LOCATION:SWEDA\, West Bromwich\, B70 8RP
END:VEVENT
BEGIN:VEVENT
DTSTART;TZID=Europe/London:20240125T100000
DTEND;TZID=Europe/London:20240125T130000
DTSTAMP:20260422T130255
CREATED:20231019T101549Z
LAST-MODIFIED:20240117T155844Z
UID:10000002-1706176800-1706187600@sweda.org.uk
SUMMARY:Social Enterprise Fuse Programme 25th January
DESCRIPTION:
URL:https://sweda.org.uk/event/social-enterprise-fuse-programme-introduction-to-social-enterprise/
LOCATION:SWEDA\, West Bromwich\, B70 8RP
CATEGORIES:Business
END:VEVENT
BEGIN:VEVENT
DTSTART;TZID=Europe/London:20240123T100000
DTEND;TZID=Europe/London:20240123T113000
DTSTAMP:20260422T130255
CREATED:20231019T095730Z
LAST-MODIFIED:20240117T160234Z
UID:10000007-1706004000-1706009400@sweda.org.uk
SUMMARY:Social Enterprise MOT Programme 23rd Jan
DESCRIPTION:
URL:https://sweda.org.uk/event/mot-programme-business-development/
CATEGORIES:Business
END:VEVENT
BEGIN:VEVENT
DTSTART;TZID=Europe/London:20240122T093000
DTEND;TZID=Europe/London:20240122T110000
DTSTAMP:20260422T130255
CREATED:20231019T112408Z
LAST-MODIFIED:20240117T115820Z
UID:10000008-1705915800-1705921200@sweda.org.uk
SUMMARY:Coffee Morning & Digital Cafe
DESCRIPTION:
URL:https://sweda.org.uk/event/coffee-morning-digital-cafe-3-2/
LOCATION:SWEDA\, West Bromwich\, B70 8RP
END:VEVENT
BEGIN:VEVENT
DTSTART;TZID=Europe/London:20230912T100000
DTEND;TZID=Europe/London:20230912T130000
DTSTAMP:20260422T130255
CREATED:20230829T112933Z
LAST-MODIFIED:20231025T092008Z
UID:10000006-1694512800-1694523600@sweda.org.uk
SUMMARY:Social Enterprise Fuse Programme 12th September - 21st November
DESCRIPTION:
URL:https://sweda.org.uk/event/social-enterprise-fuse-programme-12th-september-21st-november/
LOCATION:SWEDA\, West Bromwich\, B70 8RP
CATEGORIES:Business
END:VEVENT
BEGIN:VEVENT
DTSTART;TZID=Europe/London:20230810T103000
DTEND;TZID=Europe/London:20230810T120000
DTSTAMP:20260422T130255
CREATED:20230801T144646Z
LAST-MODIFIED:20231025T092033Z
UID:10000005-1691663400-1691668800@sweda.org.uk
SUMMARY:Social Enterprise MOT Programme - 10th Aug - 30th Aug 2023
DESCRIPTION:
URL:https://sweda.org.uk/event/social-enterprise-mot-programme-10th-aug-30th-aug-2023/
CATEGORIES:Business
END:VEVENT
BEGIN:VEVENT
DTSTART;TZID=Europe/London:20230523T103000
DTEND;TZID=Europe/London:20230523T120000
DTSTAMP:20260422T130255
CREATED:20230510T150402Z
LAST-MODIFIED:20231025T092056Z
UID:10000004-1684837800-1684843200@sweda.org.uk
SUMMARY:Social Enterprise MOT Programme 23rd May - 20th June 2023
DESCRIPTION:
URL:https://sweda.org.uk/event/social-enterprise-mot-programme-23rd-may-20th-june-2023/
CATEGORIES:Business
END:VEVENT
END:VCALENDAR