BEGIN:VCALENDAR
VERSION:2.0
PRODID:-//sweda - temp - ECPv6.15.20//NONSGML v1.0//EN
CALSCALE:GREGORIAN
METHOD:PUBLISH
X-ORIGINAL-URL:https://sweda.org.uk
X-WR-CALDESC:Events for sweda - temp
REFRESH-INTERVAL;VALUE=DURATION:PT1H
X-Robots-Tag:noindex
X-PUBLISHED-TTL:PT1H
BEGIN:VTIMEZONE
TZID:Europe/London
BEGIN:DAYLIGHT
TZOFFSETFROM:+0000
TZOFFSETTO:+0100
TZNAME:BST
DTSTART:20250330T010000
END:DAYLIGHT
BEGIN:STANDARD
TZOFFSETFROM:+0100
TZOFFSETTO:+0000
TZNAME:GMT
DTSTART:20251026T010000
END:STANDARD
BEGIN:DAYLIGHT
TZOFFSETFROM:+0000
TZOFFSETTO:+0100
TZNAME:BST
DTSTART:20260329T010000
END:DAYLIGHT
BEGIN:STANDARD
TZOFFSETFROM:+0100
TZOFFSETTO:+0000
TZNAME:GMT
DTSTART:20261025T010000
END:STANDARD
BEGIN:DAYLIGHT
TZOFFSETFROM:+0000
TZOFFSETTO:+0100
TZNAME:BST
DTSTART:20270328T010000
END:DAYLIGHT
BEGIN:STANDARD
TZOFFSETFROM:+0100
TZOFFSETTO:+0000
TZNAME:GMT
DTSTART:20271031T010000
END:STANDARD
END:VTIMEZONE
BEGIN:VEVENT
DTSTART;TZID=Europe/London:20260302T100000
DTEND;TZID=Europe/London:20260302T120000
DTSTAMP:20260421T134810
CREATED:20250502T142134Z
LAST-MODIFIED:20260316T160058Z
UID:10003279-1772445600-1772452800@sweda.org.uk
SUMMARY:FAMILY HUB @ Lodge Road with Rashpal
DESCRIPTION:
URL:https://sweda.org.uk/event/sweda-digital-class-at-hilltop-library-with-rashpal-2/2026-03-02/
CATEGORIES:communities team
ORGANIZER;CN="SWEDA":MAILTO:sweda@sweda.org.uk
END:VEVENT
BEGIN:VEVENT
DTSTART;TZID=Europe/London:20260306T123000
DTEND;TZID=Europe/London:20260306T150000
DTSTAMP:20260421T134810
CREATED:20250430T155420Z
LAST-MODIFIED:20250430T155420Z
UID:10000885-1772800200-1772809200@sweda.org.uk
SUMMARY:ESOL English at Sandwell Central Library with RashPal
DESCRIPTION:ESOL English at Sandwell Central Library with RashPal
URL:https://sweda.org.uk/event/esol-english-at-sandwell-central-library-with-rashpal/2026-03-06/
LOCATION:Sandwell central library\, High Street\, West Bromwich\, West Midlands\, B70 8DZ\, United Kingdom
CATEGORIES:communities team
ORGANIZER;CN="SWEDA":MAILTO:sweda@sweda.org.uk
END:VEVENT
BEGIN:VEVENT
DTSTART;TZID=Europe/London:20260309T100000
DTEND;TZID=Europe/London:20260309T120000
DTSTAMP:20260421T134810
CREATED:20250502T142134Z
LAST-MODIFIED:20260316T160058Z
UID:10003280-1773050400-1773057600@sweda.org.uk
SUMMARY:FAMILY HUB @ Lodge Road with Rashpal
DESCRIPTION:
URL:https://sweda.org.uk/event/sweda-digital-class-at-hilltop-library-with-rashpal-2/2026-03-09/
CATEGORIES:communities team
ORGANIZER;CN="SWEDA":MAILTO:sweda@sweda.org.uk
END:VEVENT
BEGIN:VEVENT
DTSTART;TZID=Europe/London:20260313T123000
DTEND;TZID=Europe/London:20260313T150000
DTSTAMP:20260421T134810
CREATED:20250430T155420Z
LAST-MODIFIED:20250430T155420Z
UID:10000886-1773405000-1773414000@sweda.org.uk
SUMMARY:ESOL English at Sandwell Central Library with RashPal
DESCRIPTION:ESOL English at Sandwell Central Library with RashPal
URL:https://sweda.org.uk/event/esol-english-at-sandwell-central-library-with-rashpal/2026-03-13/
LOCATION:Sandwell central library\, High Street\, West Bromwich\, West Midlands\, B70 8DZ\, United Kingdom
CATEGORIES:communities team
ORGANIZER;CN="SWEDA":MAILTO:sweda@sweda.org.uk
END:VEVENT
BEGIN:VEVENT
DTSTART;TZID=Europe/London:20260316T100000
DTEND;TZID=Europe/London:20260316T120000
DTSTAMP:20260421T134810
CREATED:20250502T142134Z
LAST-MODIFIED:20260316T160058Z
UID:10003281-1773655200-1773662400@sweda.org.uk
SUMMARY:FAMILY HUB @ Lodge Road with Rashpal
DESCRIPTION:
URL:https://sweda.org.uk/event/sweda-digital-class-at-hilltop-library-with-rashpal-2/2026-03-16/
CATEGORIES:communities team
ORGANIZER;CN="SWEDA":MAILTO:sweda@sweda.org.uk
END:VEVENT
BEGIN:VEVENT
DTSTART;TZID=Europe/London:20260320T123000
DTEND;TZID=Europe/London:20260320T150000
DTSTAMP:20260421T134810
CREATED:20250430T155420Z
LAST-MODIFIED:20250430T155420Z
UID:10000887-1774009800-1774018800@sweda.org.uk
SUMMARY:ESOL English at Sandwell Central Library with RashPal
DESCRIPTION:ESOL English at Sandwell Central Library with RashPal
URL:https://sweda.org.uk/event/esol-english-at-sandwell-central-library-with-rashpal/2026-03-20/
LOCATION:Sandwell central library\, High Street\, West Bromwich\, West Midlands\, B70 8DZ\, United Kingdom
CATEGORIES:communities team
ORGANIZER;CN="SWEDA":MAILTO:sweda@sweda.org.uk
END:VEVENT
BEGIN:VEVENT
DTSTART;TZID=Europe/London:20260323T100000
DTEND;TZID=Europe/London:20260323T120000
DTSTAMP:20260421T134810
CREATED:20250502T142134Z
LAST-MODIFIED:20260316T160058Z
UID:10003282-1774260000-1774267200@sweda.org.uk
SUMMARY:FAMILY HUB @ Lodge Road with Rashpal
DESCRIPTION:
URL:https://sweda.org.uk/event/sweda-digital-class-at-hilltop-library-with-rashpal-2/2026-03-23/
CATEGORIES:communities team
ORGANIZER;CN="SWEDA":MAILTO:sweda@sweda.org.uk
END:VEVENT
BEGIN:VEVENT
DTSTART;TZID=Europe/London:20260327T123000
DTEND;TZID=Europe/London:20260327T150000
DTSTAMP:20260421T134810
CREATED:20250430T155420Z
LAST-MODIFIED:20250430T155420Z
UID:10000888-1774614600-1774623600@sweda.org.uk
SUMMARY:ESOL English at Sandwell Central Library with RashPal
DESCRIPTION:ESOL English at Sandwell Central Library with RashPal
URL:https://sweda.org.uk/event/esol-english-at-sandwell-central-library-with-rashpal/2026-03-27/
LOCATION:Sandwell central library\, High Street\, West Bromwich\, West Midlands\, B70 8DZ\, United Kingdom
CATEGORIES:communities team
ORGANIZER;CN="SWEDA":MAILTO:sweda@sweda.org.uk
END:VEVENT
END:VCALENDAR