BEGIN:VCALENDAR
VERSION:2.0
PRODID:-//sweda - temp - ECPv6.15.20//NONSGML v1.0//EN
CALSCALE:GREGORIAN
METHOD:PUBLISH
X-ORIGINAL-URL:https://sweda.org.uk
X-WR-CALDESC:Events for sweda - temp
REFRESH-INTERVAL;VALUE=DURATION:PT1H
X-Robots-Tag:noindex
X-PUBLISHED-TTL:PT1H
BEGIN:VTIMEZONE
TZID:Europe/London
BEGIN:DAYLIGHT
TZOFFSETFROM:+0000
TZOFFSETTO:+0100
TZNAME:BST
DTSTART:20240331T010000
END:DAYLIGHT
BEGIN:STANDARD
TZOFFSETFROM:+0100
TZOFFSETTO:+0000
TZNAME:GMT
DTSTART:20241027T010000
END:STANDARD
BEGIN:DAYLIGHT
TZOFFSETFROM:+0000
TZOFFSETTO:+0100
TZNAME:BST
DTSTART:20250330T010000
END:DAYLIGHT
BEGIN:STANDARD
TZOFFSETFROM:+0100
TZOFFSETTO:+0000
TZNAME:GMT
DTSTART:20251026T010000
END:STANDARD
BEGIN:DAYLIGHT
TZOFFSETFROM:+0000
TZOFFSETTO:+0100
TZNAME:BST
DTSTART:20260329T010000
END:DAYLIGHT
BEGIN:STANDARD
TZOFFSETFROM:+0100
TZOFFSETTO:+0000
TZNAME:GMT
DTSTART:20261025T010000
END:STANDARD
END:VTIMEZONE
BEGIN:VEVENT
DTSTART;TZID=Europe/London:20250502T080000
DTEND;TZID=Europe/London:20250531T170000
DTSTAMP:20260421T110157
CREATED:20250502T132358Z
LAST-MODIFIED:20250502T132438Z
UID:10001624-1746172800-1748710800@sweda.org.uk
SUMMARY:Sandwell Family activities May 2025
DESCRIPTION:Sandwell Activities May 2025
URL:https://sweda.org.uk/event/sandwell-family-activities-may-2025/
END:VEVENT
BEGIN:VEVENT
DTSTART;TZID=Europe/London:20250512T100000
DTEND;TZID=Europe/London:20250512T120000
DTSTAMP:20260421T110157
CREATED:20250502T142134Z
LAST-MODIFIED:20260316T160058Z
UID:10001886-1747044000-1747051200@sweda.org.uk
SUMMARY:FAMILY HUB @ Lodge Road with Rashpal
DESCRIPTION:
URL:https://sweda.org.uk/event/sweda-digital-class-at-hilltop-library-with-rashpal-2/2025-05-12/
CATEGORIES:communities team
ORGANIZER;CN="SWEDA":MAILTO:sweda@sweda.org.uk
END:VEVENT
BEGIN:VEVENT
DTSTART;TZID=Europe/London:20250515T100000
DTEND;TZID=Europe/London:20250515T143000
DTSTAMP:20260421T110157
CREATED:20250502T131915Z
LAST-MODIFIED:20260316T155030Z
UID:10001364-1747303200-1747319400@sweda.org.uk
SUMMARY:Health and Wellbeing at Hilltop Library with Rashpal
DESCRIPTION:Health and Wellbeing at Hilltop Library with Rashpal
URL:https://sweda.org.uk/event/health-and-wellbeing-at-hilltop-library-with-rashpal/2025-05-15/
LOCATION:hilltop library\, Park Buildings\, Hilltop\, West Bromwich\, West Midlands\, B70 0RZ\, United Kingdom
CATEGORIES:communities team
ORGANIZER;CN="SWEDA":MAILTO:sweda@sweda.org.uk
END:VEVENT
BEGIN:VEVENT
DTSTART;TZID=Europe/London:20250515T133000
DTEND;TZID=Europe/London:20250515T153000
DTSTAMP:20260421T110157
CREATED:20250430T145843Z
LAST-MODIFIED:20250430T150034Z
UID:10000318-1747315800-1747323000@sweda.org.uk
SUMMARY:Writing a tender (part one) with Andrea Childs\, Managing Director of Klick Business Solutions Ltd
DESCRIPTION:We are thrilled to welcome Andrea Childs\, Managing Director of Klick Business Solutions Ltd\, to SWEDA for the first of two workshops enabling you to learn the skills to write a successful tender.\nThis will take place at SWEDA on Wednesday 14th May 2025\, between 9:30am and 1:30pm.\nThis workshop will include:\nFinding opportunities.\nMaking correct bid/no bid decisions.\nGetting ready to tender – policies/procedures etc.\nUnderstanding how to write compelling\, winning method statements in response to commonly asked questions.\nHow to find suitable tender opportunities – where are they advertised?\nWhat to do when you see a suitable tender opportunity.\nPlus much more.\nThis is an essential workshop for anyone who may have to write a tender for their business and learn the skills to make it successful.\nN.B. Please note this is part of a two-day workshop\, the second to be held 21st May 2025\, 9:30am – 1:30pm.  You will need to attend the first workshop in order to attend the second one. \nFor more details about Andrea and her business\, Klick Business Solutions\, visit the Eventbrite link below. \nTo register you space call 0121 525 2558\, email sweda@sweda.org.uk or via the Eventbrite link below: \nhttps://www.eventbrite.co.uk/e/1300605258339?aff=oddtdtcreator
URL:https://sweda.org.uk/event/writing-a-tender-part-one-with-andrea-childs-managing-director-of-klick-business-solutions-ltd/
LOCATION:SWEDA\, West Bromwich\, B70 8RP
CATEGORIES:Business
ORGANIZER;CN="SWEDA":MAILTO:sweda@sweda.org.uk
END:VEVENT
BEGIN:VEVENT
DTSTART;TZID=Europe/London:20250516T123000
DTEND;TZID=Europe/London:20250516T150000
DTSTAMP:20260421T110157
CREATED:20250430T155420Z
LAST-MODIFIED:20250430T155420Z
UID:10000843-1747398600-1747407600@sweda.org.uk
SUMMARY:ESOL English at Sandwell Central Library with RashPal
DESCRIPTION:ESOL English at Sandwell Central Library with RashPal
URL:https://sweda.org.uk/event/esol-english-at-sandwell-central-library-with-rashpal/2025-05-16/
LOCATION:Sandwell central library\, High Street\, West Bromwich\, West Midlands\, B70 8DZ\, United Kingdom
CATEGORIES:communities team
ORGANIZER;CN="SWEDA":MAILTO:sweda@sweda.org.uk
END:VEVENT
END:VCALENDAR